BEGIN:VCALENDAR
VERSION:2.0
PRODID:-//HKJMA/CMS//CALENDAR v20211008-v1//EN
CALSCALE:GREGORIAN
X-WR-TIMEZONE:Asia/Hong_Kong
TZID:Asia/Hong_Kong
BEGIN:VEVENT
DTEND;VALUE=DATE:20260530
UID:upcoming_event-000916
DTSTAMP:20260422T151243
LOCATION:
DESCRIPTION:
URL;VALUE=URI:https://www.jewelry.org.hk/en/about/upcoming-event-detail.php?upcoming_event_id=916
SUMMARY:金工首飾入門班
DTSTART;VALUE=DATE:20260508
TRANSP:TRANSPARENT
END:VEVENT
END:VCALENDAR
