BEGIN:VCALENDAR
VERSION:2.0
PRODID:-//HKJMA/CMS//CALENDAR v20211008-v1//EN
CALSCALE:GREGORIAN
X-WR-TIMEZONE:Asia/Hong_Kong
TZID:Asia/Hong_Kong
BEGIN:VEVENT
DTEND;VALUE=DATE:20260515
UID:upcoming_event-000915
DTSTAMP:20260422T151242
LOCATION:
DESCRIPTION:
URL;VALUE=URI:https://www.jewelry.org.hk/en/about/upcoming-event-detail.php?upcoming_event_id=915
SUMMARY:蠟工藝專屬指紋首飾製作工作坊
DTSTART;VALUE=DATE:20260507
TRANSP:TRANSPARENT
END:VEVENT
END:VCALENDAR
