BEGIN:VCALENDAR
VERSION:2.0
PRODID:-//HKJMA/CMS//CALENDAR v20211008-v1//EN
CALSCALE:GREGORIAN
X-WR-TIMEZONE:Asia/Hong_Kong
TZID:Asia/Hong_Kong
BEGIN:VEVENT
DTEND;VALUE=DATE:20260509
UID:upcoming_event-000913
DTSTAMP:20260422T151153
LOCATION:
DESCRIPTION:
URL;VALUE=URI:https://www.jewelry.org.hk/en/about/upcoming-event-detail.php?upcoming_event_id=913
SUMMARY:GEM-A英國寶石學協會 DGA 鑽石學文憑課程體驗坊
DTSTART;VALUE=DATE:20260508
TRANSP:TRANSPARENT
END:VEVENT
END:VCALENDAR
